BEGIN:VCALENDAR
VERSION:2.0
PRODID:-//wp-events-plugin.com//7.2.3.1//EN
TZID:America/Chicago
X-WR-TIMEZONE:America/Chicago
BEGIN:VEVENT
UID:40@habitatlacrosse.org
DTSTART;TZID=America/Chicago:20241012T090000
DTEND;TZID=America/Chicago:20241012T150000
DTSTAMP:20240913T133609Z
URL:https://www.habitatlacrosse.org/events/eitzen-community-build-day-2/
SUMMARY:Eitzen Community Build Day
DESCRIPTION:Join the community to help create a safe\, accessible home for 
 our future Habitat Homeowner in Eitzen\, MN.\n\nSign-Up Here: Eitzen MN Co
 mmunity Build Day Sign-up
ATTACH;FMTTYPE=image/jpeg:https://www.habitatlacrosse.org/wp-content/uploa
 ds/2024/09/Crop-scaled.jpeg
LOCATION:Williams Family Home\, 103 Iowa Avenue North\, Eitzen\, Minnesota\
 , 55931\, United States
X-APPLE-STRUCTURED-LOCATION;VALUE=URI;X-ADDRESS=103 Iowa Avenue North\, Eit
 zen\, Minnesota\, 55931\, United States;X-APPLE-RADIUS=100;X-TITLE=William
 s Family Home:geo:0,0
END:VEVENT
BEGIN:VTIMEZONE
TZID:America/Chicago
X-LIC-LOCATION:America/Chicago
BEGIN:DAYLIGHT
DTSTART:20240310T030000
TZOFFSETFROM:-0600
TZOFFSETTO:-0500
TZNAME:CDT
END:DAYLIGHT
END:VTIMEZONE
END:VCALENDAR