BEGIN:VCALENDAR
VERSION:2.0
PRODID:-//wp-events-plugin.com//7.2.3.1//EN
TZID:America/Chicago
X-WR-TIMEZONE:America/Chicago
BEGIN:VEVENT
UID:98@habitatlacrosse.org
DTSTART;TZID=America/Chicago:20260624T110000
DTEND;TZID=America/Chicago:20260624T130000
DTSTAMP:20260401T190839Z
URL:https://www.habitatlacrosse.org/events/hillsboro-open-house/
SUMMARY:Hillsboro Open House
DESCRIPTION:Join us at Habitats Hillsboro Development\, hosted in partnersh
 ip with Next Step and Fannie Mae.\n\nMore details coming soon
ATTACH;FMTTYPE=image/jpeg:https://www.habitatlacrosse.org/wp-content/uploa
 ds/2026/04/WI_Crossmod_Habitat_Ribbon_Cutting_Drone_July_2025_40.png
LOCATION:Hillsboro Housing Development\, 1117 Darcy Drive\, Hillsboro\, WI\
 , United States
X-APPLE-STRUCTURED-LOCATION;VALUE=URI;X-ADDRESS=1117 Darcy Drive\, Hillsbor
 o\, WI\, United States;X-APPLE-RADIUS=100;X-TITLE=Hillsboro Housing Develo
 pment:geo:0,0
END:VEVENT
BEGIN:VTIMEZONE
TZID:America/Chicago
X-LIC-LOCATION:America/Chicago
BEGIN:DAYLIGHT
DTSTART:20260308T030000
TZOFFSETFROM:-0600
TZOFFSETTO:-0500
TZNAME:CDT
END:DAYLIGHT
END:VTIMEZONE
END:VCALENDAR