BEGIN:VCALENDAR
VERSION:2.0
PRODID:-//wp-events-plugin.com//7.2.3.1//EN
TZID:America/Chicago
X-WR-TIMEZONE:America/Chicago
BEGIN:VEVENT
UID:96@habitatlacrosse.org
DTSTART;TZID=America/Chicago;VALUE=DATE:20260503
DTEND;TZID=America/Chicago;VALUE=DATE:20260510
DTSTAMP:20260401T175635Z
URL:https://www.habitatlacrosse.org/events/la-crosse-housing-week-2026/
SUMMARY:La Crosse Housing Week 2026
DESCRIPTION:From May 3 through May 9\, 2026\, La Crosse Housing Week will
  offer a series of events and gatherings for community members to learn ab
 out local housing issues and how to get involved. Please join us! All even
 ts are free and open to the public. At each event\, you’ll learn simple 
 ways you can make change in the La Crosse community.\n\nVisit La Crosse Ho
 using Week website.\n\nAny individual or organization interested in gettin
 g involved with Housing Week can contact Natalie at natalie@habitatlacros
 se.org.
ATTACH;FMTTYPE=image/jpeg:https://www.habitatlacrosse.org/wp-content/uploa
 ds/2026/04/DSC00386-EDIT-scaled.jpg
END:VEVENT
BEGIN:VTIMEZONE
TZID:America/Chicago
X-LIC-LOCATION:America/Chicago
BEGIN:DAYLIGHT
DTSTART:20260308T030000
TZOFFSETFROM:-0600
TZOFFSETTO:-0500
TZNAME:CDT
END:DAYLIGHT
END:VTIMEZONE
END:VCALENDAR