BEGIN:VCALENDAR
VERSION:2.0
PRODID:-//wp-events-plugin.com//7.2.3.1//EN
TZID:America/Chicago
X-WR-TIMEZONE:America/Chicago
BEGIN:VEVENT
UID:43@habitatlacrosse.org
DTSTART;TZID=America/Chicago:20241021T160000
DTEND;TZID=America/Chicago:20241021T200000
DTSTAMP:20241001T171514Z
URL:https://www.habitatlacrosse.org/events/make-a-difference-monday/
SUMMARY:Make a Difference Monday
DESCRIPTION:Join us on October 21st for the "Make a Difference Monday" eve
 nt! Enjoy an evening of food and drinks at La Crosse Distilling Co.\, wher
 e a portion of all sales will be donated to Habitat for Humanity.\n\nThis 
 is a wonderful opportunity to relax with friends while supporting our comm
 unity. We look forward to seeing you there and making a positive impact to
 gether!
ATTACH;FMTTYPE=image/jpeg:https://www.habitatlacrosse.org/wp-content/uploa
 ds/2024/09/Distilling-Co-exterior.jpg
LOCATION:La Crosse Distilling Co.\, 129 Vine Street\, La Crosse\, WI\, 5460
 1\, United States
X-APPLE-STRUCTURED-LOCATION;VALUE=URI;X-ADDRESS=129 Vine Street\, La Crosse
 \, WI\, 54601\, United States;X-APPLE-RADIUS=100;X-TITLE=La Crosse Distill
 ing Co.:geo:0,0
END:VEVENT
BEGIN:VTIMEZONE
TZID:America/Chicago
X-LIC-LOCATION:America/Chicago
BEGIN:DAYLIGHT
DTSTART:20240310T030000
TZOFFSETFROM:-0600
TZOFFSETTO:-0500
TZNAME:CDT
END:DAYLIGHT
END:VTIMEZONE
END:VCALENDAR