BEGIN:VCALENDAR
VERSION:2.0
PRODID:-//wp-events-plugin.com//7.2.3.1//EN
TZID:America/Chicago
X-WR-TIMEZONE:America/Chicago
BEGIN:VEVENT
UID:50@habitatlacrosse.org
DTSTART;TZID=America/Chicago:20250426T080000
DTEND;TZID=America/Chicago:20250426T150000
DTSTAMP:20250414T175138Z
URL:https://www.habitatlacrosse.org/events/neighbors-day-2/
SUMMARY:Neighbors Day
DESCRIPTION:Neighbors Day returns on April 26 this year! This annual commun
 ity event is dedicated to helping elderly and disabled neighbors prepare t
 heir yards for spring. Volunteers come together to rake leaves\, clean win
 dows\, turn garden beds\, and trim shrubs.\n\nSince its inception in 1996\
 , Neighbors Day has become a beloved tradition in La Crosse. Last year\, m
 ore than 500 volunteers helped over 200 homes\, providing much-needed assi
 stance to neighbors across the city. It’s truly a transformative day for
  the community.\n\nSign up to volunteer\n\nWe have reached the maximum num
 ber of homes we can assist with the help of our volunteers.
ATTACH;FMTTYPE=image/jpeg:https://www.habitatlacrosse.org/wp-content/uploa
 ds/2025/01/NeighborsDay2024-007.jpg
END:VEVENT
BEGIN:VTIMEZONE
TZID:America/Chicago
X-LIC-LOCATION:America/Chicago
BEGIN:DAYLIGHT
DTSTART:20250309T030000
TZOFFSETFROM:-0600
TZOFFSETTO:-0500
TZNAME:CDT
END:DAYLIGHT
END:VTIMEZONE
END:VCALENDAR