BEGIN:VCALENDAR
VERSION:2.0
PRODID:-//wp-events-plugin.com//7.2.3.1//EN
TZID:America/Chicago
X-WR-TIMEZONE:America/Chicago
BEGIN:VEVENT
UID:44@habitatlacrosse.org
DTSTART;TZID=America/Chicago:20241014T130000
DTEND;TZID=America/Chicago:20241014T140000
DTSTAMP:20241001T171148Z
URL:https://www.habitatlacrosse.org/events/off-site-construction-101/
SUMMARY:Off-site Construction 101
DESCRIPTION:As the cost of housing continues to rise\, more market particip
 ants are looking for alternative construction options. Off-site constructi
 on presents a ready-made\, scalable solution to help move the needle. In t
 his session\, you will: \n\n\n 	Understand the basic differences between 
 modular\, manufactured\, and mobile homes\n 	Learn about CrossMod homes an
 d the Next Step Home\n 	Understand energy efficiency and climate resilienc
 y\n 	Consider applications for rural\, suburban\, and urban housing\n\nNo 
 registration is needed. Join the Zoom meeting here.\n\n
ATTACH;FMTTYPE=image/jpeg:https://www.habitatlacrosse.org/wp-content/uploa
 ds/2024/08/Lot-17-A3.jpg
END:VEVENT
BEGIN:VTIMEZONE
TZID:America/Chicago
X-LIC-LOCATION:America/Chicago
BEGIN:DAYLIGHT
DTSTART:20240310T030000
TZOFFSETFROM:-0600
TZOFFSETTO:-0500
TZNAME:CDT
END:DAYLIGHT
END:VTIMEZONE
END:VCALENDAR