BEGIN:VCALENDAR
VERSION:2.0
PRODID:-//wp-events-plugin.com//7.2.3.1//EN
TZID:America/Chicago
X-WR-TIMEZONE:America/Chicago
BEGIN:VEVENT
UID:27@habitatlacrosse.org
DTSTART;TZID=America/Chicago:20240401T113000
DTEND;TZID=America/Chicago:20240513T133000
DTSTAMP:20240401T152214Z
URL:https://www.habitatlacrosse.org/events/plant-sale/
SUMMARY:Plant Sale Volunteer Days
DESCRIPTION:The Plant Sale is coming back! \n\nBut before that happens\, we
  need your help! We are looking for volunteers to work in the GROW La Cros
 se greenhouse to help with seeding and transplanting seedlings. Help prep 
 over 6\,000 plants for our sale.\n\nWhen: Every Monday\, Wednesday\, and F
 riday\, March 11th- May 13th\nTime: 11:30 am to 1:30 pm\nWhere: GROW La Cr
 osse Greenhouse\, 624 Vine Street\, La Crosse\n\nSign-up to volunteer here
 : Plant Sale Volunteers
ATTACH;FMTTYPE=image/jpeg:https://www.habitatlacrosse.org/wp-content/uploa
 ds/2024/03/Naighbors-Day-202332.jpg
LOCATION:GROW La Crosse Greenhouse\, 624 Vine Street\, La Crosse\, Wisconsi
 n\, 54601\, United Kingdom
X-APPLE-STRUCTURED-LOCATION;VALUE=URI;X-ADDRESS=624 Vine Street\, La Crosse
 \, Wisconsin\, 54601\, United Kingdom;X-APPLE-RADIUS=100;X-TITLE=GROW La C
 rosse Greenhouse:geo:0,0
END:VEVENT
BEGIN:VTIMEZONE
TZID:America/Chicago
X-LIC-LOCATION:America/Chicago
BEGIN:DAYLIGHT
DTSTART:20240310T030000
TZOFFSETFROM:-0600
TZOFFSETTO:-0500
TZNAME:CDT
END:DAYLIGHT
END:VTIMEZONE
END:VCALENDAR