BEGIN:VCALENDAR
VERSION:2.0
PRODID:-//wp-events-plugin.com//7.2.3.1//EN
TZID:America/Chicago
X-WR-TIMEZONE:America/Chicago
BEGIN:VEVENT
UID:42@habitatlacrosse.org
DTSTART;TZID=America/Chicago:20241018T110000
DTEND;TZID=America/Chicago:20241018T130000
DTSTAMP:20240919T141327Z
URL:https://www.habitatlacrosse.org/events/prayers-on-posts/
SUMMARY:Prayers on Posts
DESCRIPTION:Join us on Friday\, October 18\, from 11 AM to 1 PM for Prayers
  on Posts\, a special community event in partnership with Thrivent. During
  this gathering\, you'll have the chance to write well-wishes and prayers 
 on the framing of a home for a future Habitat for Humanity family. These h
 eartfelt messages will be a lasting part of the house\, representing the s
 upport of our community.\n\nWe hope you can be part of this meaningful eve
 nt!
ATTACH;FMTTYPE=image/jpeg:https://www.habitatlacrosse.org/wp-content/uploa
 ds/2024/09/Avon-Front-Sign-scaled.jpeg
LOCATION:1612 Avon Street\, 1612 Avon Street\, La Crosse\, Wisconsin\, 5460
 1\, United States
X-APPLE-STRUCTURED-LOCATION;VALUE=URI;X-ADDRESS=1612 Avon Street\, La Cross
 e\, Wisconsin\, 54601\, United States;X-APPLE-RADIUS=100;X-TITLE=1612 Avon
  Street:geo:0,0
END:VEVENT
BEGIN:VTIMEZONE
TZID:America/Chicago
X-LIC-LOCATION:America/Chicago
BEGIN:DAYLIGHT
DTSTART:20240310T030000
TZOFFSETFROM:-0600
TZOFFSETTO:-0500
TZNAME:CDT
END:DAYLIGHT
END:VTIMEZONE
END:VCALENDAR