BEGIN:VCALENDAR
VERSION:2.0
PRODID:-//wp-events-plugin.com//7.2.3.1//EN
TZID:America/Chicago
X-WR-TIMEZONE:America/Chicago
BEGIN:VEVENT
UID:48@habitatlacrosse.org
DTSTART;TZID=America/Chicago:20241213T080000
DTEND;TZID=America/Chicago:20241221T163000
DTSTAMP:20241213T171505Z
URL:https://www.habitatlacrosse.org/events/reclaim-at-the-pink-palace/
SUMMARY:ReClaim at the Pink Palace
DESCRIPTION:The “Pink Palace\,” an iconic bubble gum pink building in L
 a Crosse is about to be demolished. But first\, Habitat’s ReClaim team i
 s salvaging material to resell at the ReStore. The rooms are FULL of uniqu
 e fixtures\, decor\, cabinetry\, and more.\n\nWe need extra help to salvag
 e all the great stuff! Interested in getting involved? Register to volunte
 er here. Our last volunteer day is scheduled for Saturday December 21.
ATTACH;FMTTYPE=image/jpeg:https://www.habitatlacrosse.org/wp-content/uploa
 ds/2024/12/IMG_6475-scaled.jpg
END:VEVENT
BEGIN:VTIMEZONE
TZID:America/Chicago
X-LIC-LOCATION:America/Chicago
BEGIN:STANDARD
DTSTART:20241103T010000
TZOFFSETFROM:-0500
TZOFFSETTO:-0600
TZNAME:CST
END:STANDARD
END:VTIMEZONE
END:VCALENDAR