BEGIN:VCALENDAR
VERSION:2.0
PRODID:-//wp-events-plugin.com//7.2.3.1//EN
TZID:America/Chicago
X-WR-TIMEZONE:America/Chicago
BEGIN:VEVENT
UID:24@habitatlacrosse.org
DTSTART;TZID=America/Chicago:20240312T173000
DTEND;TZID=America/Chicago:20240312T183000
DTSTAMP:20240213T151353Z
URL:https://www.habitatlacrosse.org/events/spring-home-maintenance-class/
SUMMARY:Spring Home Maintenance Class
DESCRIPTION:Have you always wondered if you’re doing the “right” step
 s to prep your home each season? Join the La Crosse Public Library and exp
 erts from Habitat for Humanity for this seasonal maintenance class.\n\nSig
 n up here: Spring Home Maintenance with Habitat for Humanity | La Crosse P
 ublic Library (lacrosselibrary.org)
ATTACH;FMTTYPE=image/jpeg:https://www.habitatlacrosse.org/wp-content/uploa
 ds/2024/02/35968b7a-dd87-9de9-3cdc-e38b6c5e32df-scaled.jpg
LOCATION:La Crosse Public Library - Main\, 800 Main Street\, La Crosse\, WI
 \, 54601\, United States
X-APPLE-STRUCTURED-LOCATION;VALUE=URI;X-ADDRESS=800 Main Street\, La Crosse
 \, WI\, 54601\, United States;X-APPLE-RADIUS=100;X-TITLE=La Crosse Public 
 Library - Main:geo:0,0
END:VEVENT
BEGIN:VTIMEZONE
TZID:America/Chicago
X-LIC-LOCATION:America/Chicago
BEGIN:DAYLIGHT
DTSTART:20240310T030000
TZOFFSETFROM:-0600
TZOFFSETTO:-0500
TZNAME:CDT
END:DAYLIGHT
END:VTIMEZONE
END:VCALENDAR