BEGIN:VCALENDAR
VERSION:2.0
PRODID:-//wp-events-plugin.com//7.2.3.1//EN
TZID:America/Chicago
X-WR-TIMEZONE:America/Chicago
BEGIN:VEVENT
UID:97@habitatlacrosse.org
DTSTART;TZID=America/Chicago:20260417T160000
DTEND;TZID=America/Chicago:20260417T190000
DTSTAMP:20260401T190226Z
URL:https://www.habitatlacrosse.org/events/tap-into-solar/
SUMMARY:Tap into Solar
DESCRIPTION:What happens when you mix regeneratively grown grain\, local so
 lar power\, and a mission to build affordable housing? You get Sun Tapped
 —and a party you won’t want to miss!\nEthos Green Power\, Hillsboro Br
 ewing Co.\, and La Crosse Habitat for Humanity are teaming up for a night 
 of community and clean energy. Come toast our collaboration with a new Ame
 rican Lager brewed with Kernza—a smooth\, well-balanced\, and highly app
 roachable brew that protects our soil while it hits the spot.\n\n Join us
  as we celebrate Habitat’s newly built residential homes featuring solar
 + battery backup installed by Ethos! Grab a glass and chat with our "Ask a
  Pro" table to learn how solar is powering our communities.\n\n Win Prize
 s: We’re raffling off 6-packs of Sun Tapped to take home with funds goin
 g to support the incredible work La Crosse Habitat for Humanity does in ou
 r community.\nFamily Friendly: Not a beer drinker? HBC’s famous root bee
 r will be flowing for the kids (and kids-at-heart)\n\nRSVP on Facebook\n
ATTACH;FMTTYPE=image/jpeg:https://www.habitatlacrosse.org/wp-content/uploa
 ds/2026/04/WI_Crossmod_Habitat_Ribbon_Cutting_Exteriors_July_2025_06.png
LOCATION:Hillsboro Brewing Comapny\, 206 E Madison St\, Hillsboro\, Wiscons
 in\, 54634\, United Kingdom
X-APPLE-STRUCTURED-LOCATION;VALUE=URI;X-ADDRESS=206 E Madison St\, Hillsbor
 o\, Wisconsin\, 54634\, United Kingdom;X-APPLE-RADIUS=100;X-TITLE=Hillsbor
 o Brewing Comapny:geo:0,0
END:VEVENT
BEGIN:VTIMEZONE
TZID:America/Chicago
X-LIC-LOCATION:America/Chicago
BEGIN:DAYLIGHT
DTSTART:20260308T030000
TZOFFSETFROM:-0600
TZOFFSETTO:-0500
TZNAME:CDT
END:DAYLIGHT
END:VTIMEZONE
END:VCALENDAR