BEGIN:VCALENDAR
VERSION:2.0
PRODID:-//wp-events-plugin.com//7.2.3.1//EN
TZID:America/Chicago
X-WR-TIMEZONE:America/Chicago
BEGIN:VEVENT
UID:41@habitatlacrosse.org
DTSTART;TZID=America/Chicago:20241119T120000
DTEND;TZID=America/Chicago:20241119T143000
DTSTAMP:20240918T215001Z
URL:https://www.habitatlacrosse.org/events/veterans-appreciation-lunch/
SUMMARY:Veterans Appreciation Lunch
DESCRIPTION:We are excited to invite all veterans to our Veterans Appreciat
 ion Lunch on Tuesday\, November 19\, from 12:00 PM to 2:30 PM. Join us for
  a wonderful afternoon filled with great food\, meaningful conversations\,
  and camaraderie with fellow veterans in our community.\n\nIn addition to 
 the free lunch\, veterans are welcome to browse and shop at the Habitat Re
 Store\, where you can find quality home improvement items and unique treas
 ures.\n\nTo ensure we have enough food and seating for everyone\, we kindl
 y ask that you RSVP by Thursday\, November 12. You can secure your spot by
  completing the RSVP form at: https://forms.gle/V6CJFtvtuGvAP9Y67 \, or by
  calling our affiliate office at 608-785-2373.\n\nWe look forward to celeb
 rating and honoring our veterans at this special event. See you there!
ATTACH;FMTTYPE=image/jpeg:https://www.habitatlacrosse.org/wp-content/uploa
 ds/2024/09/Untitled-design-1.png
LOCATION:Habitat ReStore\, 3181 Berlin Drive\, La Crosse\, WI\, 54601\, Uni
 ted States
X-APPLE-STRUCTURED-LOCATION;VALUE=URI;X-ADDRESS=3181 Berlin Drive\, La Cros
 se\, WI\, 54601\, United States;X-APPLE-RADIUS=100;X-TITLE=Habitat ReStore
 :geo:0,0
END:VEVENT
BEGIN:VTIMEZONE
TZID:America/Chicago
X-LIC-LOCATION:America/Chicago
BEGIN:STANDARD
DTSTART:20241103T010000
TZOFFSETFROM:-0500
TZOFFSETTO:-0600
TZNAME:CST
END:STANDARD
END:VTIMEZONE
END:VCALENDAR