BEGIN:VCALENDAR
VERSION:2.0
PRODID:-//wp-events-plugin.com//7.2.3.1//EN
TZID:America/Chicago
X-WR-TIMEZONE:America/Chicago
BEGIN:VEVENT
UID:13@habitatlacrosse.org
DTSTART;TZID=America/Chicago:20240119T180000
DTEND;TZID=America/Chicago:20240119T200000
DTSTAMP:20240103T163349Z
URL:https://www.habitatlacrosse.org/events/virtual-trivia-night/
SUMMARY:Virtual Trivia Night
DESCRIPTION:Get ready for an engaging and entertaining evening at Trivia Ni
 ght. Test your knowledge and discover exciting opportunities to contribute
  to your community. Join us for a lively competition where participants ca
 n compete for prizes while enjoying a night filled with fun.\n\nBeyond the
  thrill of trivia\, you'll also have the chance to learn about the rewardi
 ng experience of volunteering at the ReStore. Bring your friends\, unleash
  your brain power\, and be part of an unforgettable night.\n\nSign up here
 : http://bit.ly/3TDeoR9
ATTACH;FMTTYPE=image/jpeg:https://www.habitatlacrosse.org/wp-content/uploa
 ds/2023/12/Trivia-Night-Flyer-1.jpg
END:VEVENT
BEGIN:VTIMEZONE
TZID:America/Chicago
X-LIC-LOCATION:America/Chicago
BEGIN:STANDARD
DTSTART:20231105T010000
TZOFFSETFROM:-0500
TZOFFSETTO:-0600
TZNAME:CST
END:STANDARD
END:VTIMEZONE
END:VCALENDAR