BEGIN:VCALENDAR
VERSION:2.0
PRODID:-//wp-events-plugin.com//7.2.3.1//EN
TZID:America/Chicago
X-WR-TIMEZONE:America/Chicago
BEGIN:VEVENT
UID:94@habitatlacrosse.org
DTSTART;TZID=America/Chicago:20260310T173000
DTEND;TZID=America/Chicago:20260310T190000
DTSTAMP:20260212T193536Z
URL:https://www.habitatlacrosse.org/events/washburn-neighborhood-meeting-1
 /
SUMMARY:Washburn Neighborhood Meeting 1
DESCRIPTION:Join us for a collaborative evening to learn about project deve
 lopments and share your thoughts on the gardens\, shared green space\, and
  boulevard plans.\n\nAdditional information will be announced soon.
ATTACH;FMTTYPE=image/jpeg:https://www.habitatlacrosse.org/wp-content/uploa
 ds/2026/02/Screenshot-2025-04-18-144557.png
LOCATION:Coulee Recovery Center\, 933 Ferry St\, La Crosse\, Wisconsin\, 54
 601\, United States
X-APPLE-STRUCTURED-LOCATION;VALUE=URI;X-ADDRESS=933 Ferry St\, La Crosse\, 
 Wisconsin\, 54601\, United States;X-APPLE-RADIUS=100;X-TITLE=Coulee Recove
 ry Center:geo:0,0
END:VEVENT
BEGIN:VTIMEZONE
TZID:America/Chicago
X-LIC-LOCATION:America/Chicago
BEGIN:DAYLIGHT
DTSTART:20260308T030000
TZOFFSETFROM:-0600
TZOFFSETTO:-0500
TZNAME:CDT
END:DAYLIGHT
END:VTIMEZONE
END:VCALENDAR