BEGIN:VCALENDAR
VERSION:2.0
PRODID:-//wp-events-plugin.com//7.2.3.1//EN
TZID:America/Chicago
X-WR-TIMEZONE:America/Chicago
BEGIN:VEVENT
UID:93@habitatlacrosse.org
DTSTART;TZID=America/Chicago:20260319T080000
DTEND;TZID=America/Chicago:20260321T160000
DTSTAMP:20260212T193748Z
URL:https://www.habitatlacrosse.org/events/women-build-2026/
SUMMARY:Women Build 2026
DESCRIPTION:Women Build returns on March 19-21 this year!\n\nConnect with C
 oulee Region women during this 3-day build event to empower local women an
 d communities.\nSign up by February 26 to guarantee a t-shirt in your size
 . All registrations must be received by March 12.\nFor more information vi
 sit: habitatlacrosse.org/womenbuild
ATTACH;FMTTYPE=image/jpeg:https://www.habitatlacrosse.org/wp-content/uploa
 ds/2026/02/DSC08526-scaled.jpg
LOCATION:Women Build Site\, 946 Division St \, La Crosse\, Wisconsin\, Unit
 ed States
X-APPLE-STRUCTURED-LOCATION;VALUE=URI;X-ADDRESS=946 Division St \, La Cross
 e\, Wisconsin\, United States;X-APPLE-RADIUS=100;X-TITLE=Women Build Site:
 geo:0,0
END:VEVENT
BEGIN:VTIMEZONE
TZID:America/Chicago
X-LIC-LOCATION:America/Chicago
BEGIN:DAYLIGHT
DTSTART:20260308T030000
TZOFFSETFROM:-0600
TZOFFSETTO:-0500
TZNAME:CDT
END:DAYLIGHT
END:VTIMEZONE
END:VCALENDAR