BEGIN:VCALENDAR
VERSION:2.0
PRODID:-//wp-events-plugin.com//7.2.3.1//EN
TZID:America/Chicago
X-WR-TIMEZONE:America/Chicago
BEGIN:VEVENT
UID:49@habitatlacrosse.org
DTSTART;TZID=America/Chicago:20250313T080000
DTEND;TZID=America/Chicago:20250315T150000
DTSTAMP:20250124T152516Z
URL:https://www.habitatlacrosse.org/events/women-build/
SUMMARY:Women Build
DESCRIPTION:Register here\n\nHabitat for Humanity of the Greater La Crosse 
 Region invites women throughout the Coulee Region to volunteer for Women B
 uild\, an opportunity to learn new skills and help build a home for a loca
 l family. Women are underrepresented in the construction industry\, and th
 ey face unique barriers when accessing safe\, affordable housing. Women Bu
 ilds across the globe highlight these issues and lift up local women.\n\nW
 hen: March 13\, 14\, and 15. Volunteer for half or full day. Maximum 10 pe
 ople per shift.\nWhere: Stoddard and La Crosse\nDetails: Lunch is provided
 . No construction experience needed.\n\n*Register by February 18 to guaran
 tee your t-shirt size
ATTACH;FMTTYPE=image/jpeg:https://www.habitatlacrosse.org/wp-content/uploa
 ds/2025/01/WomenBuild2024-098.jpg
END:VEVENT
BEGIN:VTIMEZONE
TZID:America/Chicago
X-LIC-LOCATION:America/Chicago
BEGIN:DAYLIGHT
DTSTART:20250309T030000
TZOFFSETFROM:-0600
TZOFFSETTO:-0500
TZNAME:CDT
END:DAYLIGHT
END:VTIMEZONE
END:VCALENDAR